BEGIN:VCALENDAR
PRODID:-//eluceo/ical//2.0/EN
VERSION:2.0
CALSCALE:GREGORIAN
BEGIN:VEVENT
UID:fcc84f4d11162670a6f14374e321adfd
DTSTAMP:20260420T114212Z
SUMMARY:LOTO DU ROTARY
DESCRIPTION:
URL:https://noeux-soleil-artois.rotaryd1520.org/de/agenda/show/51955
DTSTART;TZID=Europe/Zurich:20251019T110000
DTEND;TZID=Europe/Zurich:20251019T190000
LOCATION:Salle Mendès  France - 36\, rue du Congo - 62290 Noeux-les- Mines
CATEGORIES:Rotary
END:VEVENT
BEGIN:VTIMEZONE
TZID:Europe/Zurich
BEGIN:DAYLIGHT
DTSTART:20251019T110000
TZNAME:CEST
TZOFFSETTO:+0200
TZOFFSETFROM:+0200
END:DAYLIGHT
END:VTIMEZONE
END:VCALENDAR
